View In:
ArcGIS JavaScript
ArcGIS Online Map Viewer
ArcGIS Earth
ArcGIS Pro
Service Description:
Map Name: IDW Depth Grids
Legend
All Layers and Tables
Layers:
Description: NOAA NCEI is developing a suite of digital elevation models (DEMs) for the U.S. coast to support a variety of NOAA missions, including improved inundation modeling and mapping, habitat characterization, and visualization of Earth's surface. The DEMs are being developed according to a 0.25 degree tiling scheme. The spatial resolution of the tiles "telescopes" from the coastal zone to the deep ocean floor at 1/9, 1/3, and 3 arc-second grid resolution. Only the 1/9 arc-second DEM tiles integrate both bathymetric and topographic data; all other resolutions map bathymetry only. The tiling of the DEMs facilitates targeted, rapid updates as new coastal and marine elevation data are acquired and become available. Bathymetric and topographic data utilized for DEM creation originate from a variety of sources, including (but not limited to) the NOAA Office of Coast Survey, NOAA National Geodetic Survey, NOAA Office for Coastal Management, U.S. Geological Survey, and the U.S. Army Corps of Engineers. The DEMs are referenced vertically to the North American Vertical Datum of 1988. The vertical units of the DEMs are meters. The DEMs are referenced horizontally to the North American Datum of 1983. The horizontal units of the data are decimal degrees.
Service Item Id: 4fa934e94ab7418bb3c7cdf5a1fb451e
Copyright Text: NOAA NCEI
Spatial Reference:
102100
(3857)
Single Fused Map Cache: true
Tile Info:
- Height: 256
- Width: 256
- DPI: 96
-
Levels of Detail: 24
-
Level ID: 1
[ Start Tile, End Tile ]
- Resolution: 78271.5169639999
- Scale: 2.95828763795777E8
-
Level ID: 2
[ Start Tile, End Tile ]
- Resolution: 39135.7584820001
- Scale: 1.47914381897889E8
-
Level ID: 3
[ Start Tile, End Tile ]
- Resolution: 19567.8792409999
- Scale: 7.3957190948944E7
-
Level ID: 4
[ Start Tile, End Tile ]
- Resolution: 9783.93962049996
- Scale: 3.6978595474472E7
-
Level ID: 5
[ Start Tile, End Tile ]
- Resolution: 4891.96981024998
- Scale: 1.8489297737236E7
- Format: Mixed
- Compression Quality: 75.0
- Origin: X: -2.0037508342787E7
Y: 2.0037508342787E7
- Spatial Reference: 102100
(3857)
Storage Info:
- Storage Format: esriMapCacheStorageModeCompactV2
- Packet Size: 128
Initial Extent:
XMin: -9140654.65302063
YMin: 3492786.594317242
XMax: -9033225.253909854
YMax: 3615346.894711224
Spatial Reference: 102100
(3857)
Full Extent:
XMin: -9129078.772524787
YMin: 3503066.405753073
XMax: -9044473.736727817
YMax: 3600823.1195416297
Spatial Reference: 102100
(3857)
Units: esriMeters
Supported Image Format Types: PNG32,PNG24,PNG,JPG,DIB,TIFF,EMF,PS,PDF,GIF,SVG,SVGZ,BMP
Document Info:
Title: Z:\Documents\ArcGIS\Projects\P_00758_JacksonvilleResilience\P_00758_JacksonvilleResilience.aprx
Author:
Comments:
Subject:
Category:
Keywords:
AntialiasingMode: None
TextAntialiasingMode: Force
Supports Dynamic Layers: false
MaxRecordCount: 1000
MaxImageHeight: 4096
MaxImageWidth: 4096
Supported Query Formats: JSON, geoJSON, PBF
Supports Query Data Elements: true
Min Scale: 2311162.217155
Max Scale: 9027.977411
Min LOD: 8
Max LOD: 16
Supports Datum Transformation: true
Child Resources:
Info
Supported Operations:
QueryLegends
EstimateExportTilesSize
ExportTiles
Return Updates